BEGIN:VCALENDAR
VERSION:2.0
PRODID:SchoolNow
CALSCALE:GREGORIAN
BEGIN:VEVENT
UID:b83c6b50-fb20-11f0-ad84-0a58a9feac02
DTSTAMP:20260420T093510Z
SUMMARY:Swim @ Jamboree #4b
LOCATION:Castilleja School\, 1310 Bryant St\, Palo Alto\, CA 94301\, USA
URL;VALUE=URI:https://www.ndsj.org/student-life/calendar/8844217/swim-jambo
 ree-4b
DTSTART:20260331T223000Z
DTEND:20260401T013000Z
END:VEVENT
END:VCALENDAR
