BEGIN:VCALENDAR
VERSION:2.0
PRODID:SchoolNow
CALSCALE:GREGORIAN
BEGIN:VEVENT
UID:b83c68b2-fb20-11f0-a1ea-0a58a9feac02
DTSTAMP:20260420T093510Z
SUMMARY:K-Bell Classic
LOCATION:Westmont High School\, 4805 Westmont Ave\, Campbell\, CA 95008\, U
 SA
URL;VALUE=URI:https://www.ndsj.org/student-life/calendar/8844216/k-bell-cla
 ssic
DTSTART;VALUE=DATE:20260307
DTEND;VALUE=DATE:20260308
END:VEVENT
END:VCALENDAR
