BEGIN:VCALENDAR
VERSION:2.0
PRODID:SchoolNow
CALSCALE:GREGORIAN
BEGIN:VEVENT
UID:b83c64a2-fb20-11f0-9e91-0a58a9feac02
DTSTAMP:20260420T093510Z
SUMMARY:Swim Jamboree #5a
LOCATION:Castilleja School\, 1310 Bryant St\, Palo Alto\, CA 94301\, USA
URL;VALUE=URI:https://www.ndsj.org/student-life/calendar/8844215/swim-jambo
 ree-5a
DTSTART:20260414T223000Z
DTEND:20260415T013000Z
END:VEVENT
END:VCALENDAR
