BEGIN:VCALENDAR
VERSION:2.0
PRODID:SchoolNow
CALSCALE:GREGORIAN
BEGIN:VEVENT
UID:92f38dec-f56c-11f0-ae3a-0affcf85dcdb
DTSTAMP:20260420T154012Z
SUMMARY:Diversity Showcase - Chairs & Dance Floor Remain
LOCATION:Meeting Space-JB Hall - STAGE (Does not include GYM)\, Meeting Spa
 ce-JB Hall- GYM (does not include STAGE or AV support) (700)
URL;VALUE=URI:https://www.ndsj.org/student-life/calendar/8837850/diversity-
 showcase-chairs-dance-floor-remain
DTSTART:20260124T150000Z
DTEND:20260125T030000Z
END:VEVENT
END:VCALENDAR
