BEGIN:VCALENDAR
VERSION:2.0
PRODID:SchoolNow
CALSCALE:GREGORIAN
BEGIN:VEVENT
UID:0cd7c05c-edce-11f0-af16-0a58a9feac02
DTSTAMP:20260420T093510Z
SUMMARY:Lacrosse vs. Aragon
LOCATION:PAL Stadium\, 680 S 34th St\, San Jose\, CA 95116\, USA
URL;VALUE=URI:https://www.ndsj.org/student-life/calendar/8833988/lacrosse-v
 s-aragon
DTSTART:20260307T003000Z
DTEND:20260307T020000Z
END:VEVENT
END:VCALENDAR
