BEGIN:VCALENDAR
VERSION:2.0
PRODID:SchoolNow
CALSCALE:GREGORIAN
BEGIN:VEVENT
UID:0cd7be68-edce-11f0-9d9e-0a58a9feac02
DTSTAMP:20260420T093510Z
SUMMARY:Softball @ Menlo-Atherton
LOCATION:Menlo-Atherton High School\, 555 Middlefield Rd\, Atherton\, CA 94
 027\, USA
URL;VALUE=URI:https://www.ndsj.org/student-life/calendar/8833987/softball-m
 enlo-atherton
DTSTART:20260428T230000Z
DTEND:20260429T010000Z
END:VEVENT
END:VCALENDAR
