BEGIN:VCALENDAR
VERSION:2.0
PRODID:SchoolNow
CALSCALE:GREGORIAN
BEGIN:VEVENT
UID:0cd7bc60-edce-11f0-80cb-0a58a9feac02
DTSTAMP:20260420T154012Z
SUMMARY:Varsity Soccer @ Crystal
LOCATION:Crystal Springs Uplands School - Upper School\, 400 Uplands Dr\, H
 illsborough\, CA 94010\, USA
URL;VALUE=URI:https://www.ndsj.org/student-life/calendar/8833985/varsity-so
 ccer-crystal
DTSTART:20260120T233000Z
DTEND:20260121T010000Z
END:VEVENT
END:VCALENDAR
