BEGIN:VCALENDAR
VERSION:2.0
PRODID:SchoolNow
CALSCALE:GREGORIAN
BEGIN:VEVENT
UID:0cd7b79c-edce-11f0-8d34-0a58a9feac02
DTSTAMP:20260420T093510Z
SUMMARY:Track & Field WBAL #3
LOCATION:Bellarmine College Preparatory\, 960 W Hedding St\, San Jose\, CA 
 95126\, USA
URL;VALUE=URI:https://www.ndsj.org/student-life/calendar/8833982/track-fiel
 d-wbal-3
DTSTART:20260422T223000Z
DTEND:20260423T020000Z
END:VEVENT
END:VCALENDAR
