BEGIN:VCALENDAR
VERSION:2.0
PRODID:SchoolNow
CALSCALE:GREGORIAN
BEGIN:VEVENT
UID:0cd7b67a-edce-11f0-aac1-0a58a9feac02
DTSTAMP:20260420T154012Z
SUMMARY:Wrestling @ Kelly Kusumoto Classic Wrestling Tour
LOCATION:Prospect High School\, 18900 Prospect Rd\, Saratoga\, CA 95070\, U
 SA
URL;VALUE=URI:https://www.ndsj.org/student-life/calendar/8833981/wrestling-
 kelly-kusumoto-classic-wrestling-tour
DTSTART:20260116T200000Z
DTEND:20260117T060000Z
END:VEVENT
END:VCALENDAR
