BEGIN:VCALENDAR
VERSION:2.0
PRODID:SchoolNow
CALSCALE:GREGORIAN
BEGIN:VEVENT
UID:0cd7b490-edce-11f0-83ec-0a58a9feac02
DTSTAMP:20260420T093510Z
SUMMARY:Softball vs. Menlo-Atherton (SENIOR NIGHT!)
LOCATION:PAL Stadium\, 680 S 34th St\, San Jose\, CA 95116\, USA
URL;VALUE=URI:https://www.ndsj.org/student-life/calendar/8833980/softball-v
 s-menlo-atherton-senior-night
DTSTART:20260514T230000Z
DTEND:20260515T010000Z
END:VEVENT
END:VCALENDAR
