BEGIN:VCALENDAR
VERSION:2.0
PRODID:SchoolNow
CALSCALE:GREGORIAN
BEGIN:VEVENT
UID:0cd7b2ec-edce-11f0-bbed-0a58a9feac02
DTSTAMP:20260420T093510Z
SUMMARY:Lacrosse vs. Presentation
LOCATION:PAL Stadium\, 680 S 34th St\, San Jose\, CA 95116\, USA
URL;VALUE=URI:https://www.ndsj.org/student-life/calendar/8833979/lacrosse-v
 s-presentation
DTSTART:20260318T233000Z
DTEND:20260319T010000Z
END:VEVENT
END:VCALENDAR
