BEGIN:VCALENDAR
VERSION:2.0
PRODID:SchoolNow
CALSCALE:GREGORIAN
BEGIN:VEVENT
UID:0cd7aee6-edce-11f0-8b9e-0a58a9feac02
DTSTAMP:20260420T093510Z
SUMMARY:Lacrosse @ Aragon
LOCATION:Aragon High School\, Theater\, Theater\, Track and Football Field\
 , 900 Alameda de las Pulgas\, San Mateo\, CA 94402\, USA
URL;VALUE=URI:https://www.ndsj.org/student-life/calendar/8833978/lacrosse-a
 ragon
DTSTART:20260328T000000Z
DTEND:20260328T013000Z
END:VEVENT
END:VCALENDAR
