BEGIN:VCALENDAR
VERSION:2.0
PRODID:SchoolNow
CALSCALE:GREGORIAN
BEGIN:VEVENT
UID:0c9e090c-edce-11f0-b6fc-0a58a9feac02
DTSTAMP:20260420T093510Z
SUMMARY:Track & Field WBAL #1
LOCATION:The King's Academy\, 562 N Britton Ave\, Sunnyvale\, CA 94085\, US
 A
URL;VALUE=URI:https://www.ndsj.org/student-life/calendar/8833977/track-fiel
 d-wbal-1
DTSTART:20260318T223000Z
DTEND:20260319T013000Z
END:VEVENT
END:VCALENDAR
