BEGIN:VCALENDAR
VERSION:2.0
PRODID:SchoolNow
CALSCALE:GREGORIAN
BEGIN:VEVENT
UID:0c9e075e-edce-11f0-9e7f-0a58a9feac02
DTSTAMP:20260420T093510Z
SUMMARY:Varsity Soccer @ The King's Academy
URL;VALUE=URI:https://www.ndsj.org/student-life/calendar/8833976/varsity-so
 ccer-the-kings-academy
DTSTART:20260211T000000Z
DTEND:20260211T013000Z
END:VEVENT
END:VCALENDAR
