BEGIN:VCALENDAR
VERSION:2.0
PRODID:SchoolNow
CALSCALE:GREGORIAN
BEGIN:VEVENT
UID:0c9e043e-edce-11f0-8006-0a58a9feac02
DTSTAMP:20260420T093510Z
SUMMARY:Varsity Soccer @ Castilleja
LOCATION:Rich May Memorial Field\, 1425 Bay Rd\, East Palo Alto\, CA 94303\
 , USA
URL;VALUE=URI:https://www.ndsj.org/student-life/calendar/8833973/varsity-so
 ccer-castilleja
DTSTART:20260204T001500Z
DTEND:20260204T014500Z
END:VEVENT
END:VCALENDAR
