BEGIN:VCALENDAR
VERSION:2.0
PRODID:SchoolNow
CALSCALE:GREGORIAN
BEGIN:VEVENT
UID:0c9e0358-edce-11f0-a44d-0a58a9feac02
DTSTAMP:20260420T093510Z
SUMMARY:Softball vs. Sequoia
LOCATION:PAL Stadium\, 680 S 34th St\, San Jose\, CA 95116\, USA
URL;VALUE=URI:https://www.ndsj.org/student-life/calendar/8833972/softball-v
 s-sequoia
DTSTART:20260513T230000Z
DTEND:20260514T010000Z
END:VEVENT
END:VCALENDAR
