BEGIN:VCALENDAR
VERSION:2.0
PRODID:SchoolNow
CALSCALE:GREGORIAN
BEGIN:VEVENT
UID:0c9e024a-edce-11f0-8027-0a58a9feac02
DTSTAMP:20260420T154012Z
SUMMARY:Wrestling @ Lynbrook Ladies Challenge Tournament
LOCATION:Lynbrook High School\, 1280 Johnson Ave\, San Jose\, CA 95129\, US
 A
URL;VALUE=URI:https://www.ndsj.org/student-life/calendar/8833971/wrestling-
 lynbrook-ladies-challenge-tournament
DTSTART:20260124T150000Z
DTEND:20260124T210000Z
END:VEVENT
END:VCALENDAR
