BEGIN:VCALENDAR
VERSION:2.0
PRODID:SchoolNow
CALSCALE:GREGORIAN
BEGIN:VEVENT
UID:0c9e011e-edce-11f0-b6f6-0a58a9feac02
DTSTAMP:20260420T154012Z
SUMMARY:Wrestling @ Trojan War Wrestling Tournament (SENIOR NIGHT!)
LOCATION:Milpitas High School\, 1285 Escuela Pkwy\, Milpitas\, CA 95035\, U
 SA
URL;VALUE=URI:https://www.ndsj.org/student-life/calendar/8833970/wrestling-
 trojan-war-wrestling-tournament-senior-night
DTSTART:20260130T220000Z
DTEND:20260131T040000Z
END:VEVENT
END:VCALENDAR
