BEGIN:VCALENDAR
VERSION:2.0
PRODID:SchoolNow
CALSCALE:GREGORIAN
BEGIN:VEVENT
UID:0c9dff52-edce-11f0-b779-0a58a9feac02
DTSTAMP:20260420T093510Z
SUMMARY:Softball @ Burlingame
LOCATION:Burlingame High School\, 1 Mangini Way\, Burlingame\, CA 94010\, U
 SA
URL;VALUE=URI:https://www.ndsj.org/student-life/calendar/8833969/softball-b
 urlingame
DTSTART:20260506T230000Z
DTEND:20260507T010000Z
END:VEVENT
END:VCALENDAR
