BEGIN:VCALENDAR
VERSION:2.0
PRODID:SchoolNow
CALSCALE:GREGORIAN
BEGIN:VEVENT
UID:0c9df868-edce-11f0-9e67-0a58a9feac02
DTSTAMP:20260420T093510Z
SUMMARY:Lacrosse @ Valley Christian
LOCATION:Valley Christian Schools\, 100 Skyway Dr #130\, San Jose\, CA 9511
 1\, USA
URL;VALUE=URI:https://www.ndsj.org/student-life/calendar/8833968/lacrosse-v
 alley-christian
DTSTART:20260418T000000Z
DTEND:20260418T013000Z
END:VEVENT
END:VCALENDAR
