BEGIN:VCALENDAR
VERSION:2.0
PRODID:SchoolNow
CALSCALE:GREGORIAN
BEGIN:VEVENT
UID:0c9df78c-edce-11f0-99f3-0a58a9feac02
DTSTAMP:20260420T093510Z
SUMMARY:Lacrosse @ Presentation
LOCATION:Presentation High School\, 2281 Plummer Ave\, San Jose\, CA 95125\
 , USA
URL;VALUE=URI:https://www.ndsj.org/student-life/calendar/8833967/lacrosse-p
 resentation
DTSTART:20260422T230000Z
DTEND:20260423T003000Z
END:VEVENT
END:VCALENDAR
