BEGIN:VCALENDAR
VERSION:2.0
PRODID:SchoolNow
CALSCALE:GREGORIAN
BEGIN:VEVENT
UID:0c9df66a-edce-11f0-b8de-0a58a9feac02
DTSTAMP:20260420T093510Z
SUMMARY:JV Soccer vs. Menlo
LOCATION:Watson Park\, N 22nd St & Jackson St\, Watson Park Soccer Field\, 
 San Jose\, CA 95112\, USA
URL;VALUE=URI:https://www.ndsj.org/student-life/calendar/8833966/jv-soccer-
 vs-menlo
DTSTART:20260204T003000Z
DTEND:20260204T020000Z
END:VEVENT
END:VCALENDAR
