BEGIN:VCALENDAR
VERSION:2.0
PRODID:SchoolNow
CALSCALE:GREGORIAN
BEGIN:VEVENT
UID:0c9df566-edce-11f0-ae5a-0a58a9feac02
DTSTAMP:20260420T093510Z
SUMMARY:Varsity Soccer vs. Menlo
LOCATION:Del Monte Park\, 806 W Home St\, San Jose\, CA 95126\, USA
URL;VALUE=URI:https://www.ndsj.org/student-life/calendar/8833965/varsity-so
 ccer-vs-menlo
DTSTART:20260203T003000Z
DTEND:20260203T020000Z
END:VEVENT
END:VCALENDAR
