BEGIN:VCALENDAR
VERSION:2.0
PRODID:SchoolNow
CALSCALE:GREGORIAN
BEGIN:VEVENT
UID:0c9df48a-edce-11f0-b335-0a58a9feac02
DTSTAMP:20260420T093510Z
SUMMARY:Lacrosse @ Mercy Burlingame (Murray Field)
LOCATION:Burlingame Soccer Center (Murray Field)\, 250 Anza Blvd\, Burlinga
 me\, CA 94010\, USA
URL;VALUE=URI:https://www.ndsj.org/student-life/calendar/8833964/lacrosse-m
 ercy-burlingame-murray-field
DTSTART:20260313T223000Z
DTEND:20260314T003000Z
END:VEVENT
END:VCALENDAR
