BEGIN:VCALENDAR
VERSION:2.0
PRODID:SchoolNow
CALSCALE:GREGORIAN
BEGIN:VEVENT
UID:0c9df264-edce-11f0-891c-0a58a9feac02
DTSTAMP:20260420T093510Z
SUMMARY:Softball vs. Castilleja (Foothill College Softball Field)
LOCATION:Foothill College Softball Field\, 25740 Josefa Ln\, Los Altos Hill
 s\, CA 94022\, USA
URL;VALUE=URI:https://www.ndsj.org/student-life/calendar/8833962/softball-v
 s-castilleja-foothill-college-softball-field
DTSTART:20260401T230000Z
DTEND:20260402T010000Z
END:VEVENT
END:VCALENDAR
