BEGIN:VCALENDAR
VERSION:2.0
PRODID:SchoolNow
CALSCALE:GREGORIAN
BEGIN:VEVENT
UID:0c9df16a-edce-11f0-86a2-0a58a9feac02
DTSTAMP:20260420T154012Z
SUMMARY:JV Basketball vs. Milpitas
URL;VALUE=URI:https://www.ndsj.org/student-life/calendar/8833961/jv-basketb
 all-vs-milpitas
DTSTART:20260130T010000Z
DTEND:20260130T023000Z
END:VEVENT
END:VCALENDAR
