BEGIN:VCALENDAR
VERSION:2.0
PRODID:SchoolNow
CALSCALE:GREGORIAN
BEGIN:VEVENT
UID:0c9df08e-edce-11f0-b51f-0a58a9feac02
DTSTAMP:20260420T093510Z
SUMMARY:Softball vs. Jefferson
LOCATION:PAL Stadium\, 680 S 34th St\, San Jose\, CA 95116\, USA
URL;VALUE=URI:https://www.ndsj.org/student-life/calendar/8833960/softball-v
 s-jefferson
DTSTART:20260320T230000Z
DTEND:20260321T010000Z
END:VEVENT
END:VCALENDAR
