BEGIN:VCALENDAR
VERSION:2.0
PRODID:SchoolNow
CALSCALE:GREGORIAN
BEGIN:VEVENT
UID:0c9defa8-edce-11f0-9938-0a58a9feac02
DTSTAMP:20260420T154012Z
SUMMARY:JV Soccer @ Burlingame
LOCATION:Burlingame High School\, 1 Mangini Way\, Burlingame\, CA 94010\, U
 SA
URL;VALUE=URI:https://www.ndsj.org/student-life/calendar/8833959/jv-soccer-
 burlingame
DTSTART:20260122T003000Z
DTEND:20260122T020000Z
END:VEVENT
END:VCALENDAR
