BEGIN:VCALENDAR
VERSION:2.0
PRODID:SchoolNow
CALSCALE:GREGORIAN
BEGIN:VEVENT
UID:0c9dee68-edce-11f0-bc37-0a58a9feac02
DTSTAMP:20260420T093510Z
SUMMARY:Lacrosse @ Priory
LOCATION:Woodside Priory School\, 302 Portola Rd\, Portola Valley\, CA 9402
 8\, USA
URL;VALUE=URI:https://www.ndsj.org/student-life/calendar/8833958/lacrosse-p
 riory
DTSTART:20260429T230000Z
DTEND:20260430T003000Z
END:VEVENT
END:VCALENDAR
