BEGIN:VCALENDAR
VERSION:2.0
PRODID:SchoolNow
CALSCALE:GREGORIAN
BEGIN:VEVENT
UID:0c9ded3c-edce-11f0-9743-0a58a9feac02
DTSTAMP:20260420T154012Z
SUMMARY:Frosh/Soph Basketball vs. Milpitas
URL;VALUE=URI:https://www.ndsj.org/student-life/calendar/8833957/frosh-soph
 -basketball-vs-milpitas
DTSTART:20260129T233000Z
DTEND:20260130T010000Z
END:VEVENT
END:VCALENDAR
