BEGIN:VCALENDAR
VERSION:2.0
PRODID:SchoolNow
CALSCALE:GREGORIAN
BEGIN:VEVENT
UID:0c9dea58-edce-11f0-9999-0a58a9feac02
DTSTAMP:20260420T093510Z
SUMMARY:Softball @ Notre Dame Belmont
LOCATION:Notre Dame High School Belmont\, 1540 Ralston Ave\, Belmont\, CA 9
 4002\, USA
URL;VALUE=URI:https://www.ndsj.org/student-life/calendar/8833955/softball-n
 otre-dame-belmont
DTSTART:20260422T233000Z
DTEND:20260423T013000Z
END:VEVENT
END:VCALENDAR
