BEGIN:VCALENDAR
VERSION:2.0
PRODID:SchoolNow
CALSCALE:GREGORIAN
BEGIN:VEVENT
UID:0c9de8b4-edce-11f0-96e2-0a58a9feac02
DTSTAMP:20260420T093510Z
SUMMARY:Track & Field WBAL #2
LOCATION:Bellarmine College Preparatory\, 960 W Hedding St\, San Jose\, CA 
 95126\, USA
URL;VALUE=URI:https://www.ndsj.org/student-life/calendar/8833954/track-fiel
 d-wbal-2
DTSTART:20260325T223000Z
DTEND:20260326T013000Z
END:VEVENT
END:VCALENDAR
