BEGIN:VCALENDAR
VERSION:2.0
PRODID:SchoolNow
CALSCALE:GREGORIAN
BEGIN:VEVENT
UID:0c9de788-edce-11f0-96d1-0a58a9feac02
DTSTAMP:20260420T093510Z
SUMMARY:Lacrosse @ Crystal
LOCATION:Crystal Springs Uplands School - Upper School\, 400 Uplands Dr\, H
 illsborough\, CA 94010\, USA
URL;VALUE=URI:https://www.ndsj.org/student-life/calendar/8833953/lacrosse-c
 rystal
DTSTART:20260320T230000Z
DTEND:20260321T003000Z
END:VEVENT
END:VCALENDAR
