BEGIN:VCALENDAR
VERSION:2.0
PRODID:SchoolNow
CALSCALE:GREGORIAN
BEGIN:VEVENT
UID:0c9de5bc-edce-11f0-ab79-0a58a9feac02
DTSTAMP:20260420T093510Z
SUMMARY:Softball vs. Notre Dame Belmont
LOCATION:PAL Stadium\, 680 S 34th St\, San Jose\, CA 95116\, USA
URL;VALUE=URI:https://www.ndsj.org/student-life/calendar/8833952/softball-v
 s-notre-dame-belmont
DTSTART:20260504T230000Z
DTEND:20260505T010000Z
END:VEVENT
END:VCALENDAR
