BEGIN:VCALENDAR
VERSION:2.0
PRODID:SchoolNow
CALSCALE:GREGORIAN
BEGIN:VEVENT
UID:0c9de1b6-edce-11f0-8aca-0a58a9feac02
DTSTAMP:20260420T093510Z
SUMMARY:Lacrosse vs. Valley Christian (Presentation High School)
LOCATION:Presentation High School\, 2281 Plummer Ave\, San Jose\, CA 95125\
 , USA
URL;VALUE=URI:https://www.ndsj.org/student-life/calendar/8833951/lacrosse-v
 s-valley-christian-presentation-high-school
DTSTART:20260326T000000Z
DTEND:20260326T013000Z
END:VEVENT
END:VCALENDAR
