BEGIN:VCALENDAR
VERSION:2.0
PRODID:SchoolNow
CALSCALE:GREGORIAN
BEGIN:VEVENT
UID:0c30847c-edce-11f0-ba28-0a58a9feac02
DTSTAMP:20260420T093510Z
SUMMARY:Lacrosse vs. Salinas
LOCATION:PAL Stadium\, 680 S 34th St\, San Jose\, CA 95116\, USA
URL;VALUE=URI:https://www.ndsj.org/student-life/calendar/8833948/lacrosse-v
 s-salinas
DTSTART:20260304T003000Z
DTEND:20260304T020000Z
END:VEVENT
END:VCALENDAR
