BEGIN:VCALENDAR
VERSION:2.0
PRODID:SchoolNow
CALSCALE:GREGORIAN
BEGIN:VEVENT
UID:0c308210-edce-11f0-9059-0a58a9feac02
DTSTAMP:20260420T093510Z
SUMMARY:Lacrosse vs. Crystal (Presentation High School)
LOCATION:Presentation High School\, 2281 Plummer Ave\, San Jose\, CA 95125\
 , USA
URL;VALUE=URI:https://www.ndsj.org/student-life/calendar/8833947/lacrosse-v
 s-crystal-presentation-high-school
DTSTART:20260416T001500Z
DTEND:20260416T014500Z
END:VEVENT
END:VCALENDAR
