BEGIN:VCALENDAR
VERSION:2.0
PRODID:SchoolNow
CALSCALE:GREGORIAN
BEGIN:VEVENT
UID:0c305da8-edce-11f0-9718-0a58a9feac02
DTSTAMP:20260420T093510Z
SUMMARY:JV Basketball vs. The King's Academy
URL;VALUE=URI:https://www.ndsj.org/student-life/calendar/8833946/jv-basketb
 all-vs-the-kings-academy
DTSTART:20260212T010000Z
DTEND:20260212T023000Z
END:VEVENT
END:VCALENDAR
