BEGIN:VCALENDAR
VERSION:2.0
PRODID:SchoolNow
CALSCALE:GREGORIAN
BEGIN:VEVENT
UID:0c305592-edce-11f0-b288-0a58a9feac02
DTSTAMP:20260420T093510Z
SUMMARY:Softball vs. Burlingame
LOCATION:PAL Stadium\, 680 S 34th St\, San Jose\, CA 95116\, USA
URL;VALUE=URI:https://www.ndsj.org/student-life/calendar/8833943/softball-v
 s-burlingame
DTSTART:20260420T230000Z
DTEND:20260421T010000Z
END:VEVENT
END:VCALENDAR
