BEGIN:VCALENDAR
VERSION:2.0
PRODID:SchoolNow
CALSCALE:GREGORIAN
BEGIN:VEVENT
UID:0c30548e-edce-11f0-87cf-0a58a9feac02
DTSTAMP:20260420T093510Z
SUMMARY:Softball vs. Terra Nova
LOCATION:PAL Stadium\, 680 S 34th St\, San Jose\, CA 95116\, USA
URL;VALUE=URI:https://www.ndsj.org/student-life/calendar/8833942/softball-v
 s-terra-nova
DTSTART:20260501T230000Z
DTEND:20260502T010000Z
END:VEVENT
END:VCALENDAR
