BEGIN:VCALENDAR
VERSION:2.0
PRODID:SchoolNow
CALSCALE:GREGORIAN
BEGIN:VEVENT
UID:0c305240-edce-11f0-affd-0a58a9feac02
DTSTAMP:20260420T093510Z
SUMMARY:Softball @ Sequoia
LOCATION:Sequoia High School\, 1201 Brewster Ave\, Redwood City\, CA 94062\
 , USA
URL;VALUE=URI:https://www.ndsj.org/student-life/calendar/8833940/softball-s
 equoia
DTSTART:20260324T233000Z
DTEND:20260325T013000Z
END:VEVENT
END:VCALENDAR
