BEGIN:VCALENDAR
VERSION:2.0
PRODID:SchoolNow
CALSCALE:GREGORIAN
BEGIN:VEVENT
UID:0c3050a6-edce-11f0-956a-0a58a9feac02
DTSTAMP:20260420T093510Z
SUMMARY:Lacrosse @ Notre Dame Belmont
LOCATION:Notre Dame High School Belmont\, 1540 Ralston Ave\, Belmont\, CA 9
 4002\, USA
URL;VALUE=URI:https://www.ndsj.org/student-life/calendar/8833939/lacrosse-n
 otre-dame-belmont
DTSTART:20260401T230000Z
DTEND:20260402T003000Z
END:VEVENT
END:VCALENDAR
