BEGIN:VCALENDAR
VERSION:2.0
PRODID:SchoolNow
CALSCALE:GREGORIAN
BEGIN:VEVENT
UID:0c304e6c-edce-11f0-aba8-0a58a9feac02
DTSTAMP:20260420T093510Z
SUMMARY:Softball @ Terra Nova
LOCATION:Terra Nova High School\, 1450 Terra Nova Blvd\, Pacifica\, CA 9404
 4\, USA
URL;VALUE=URI:https://www.ndsj.org/student-life/calendar/8833938/softball-t
 erra-nova
DTSTART:20260413T230000Z
DTEND:20260414T010000Z
END:VEVENT
END:VCALENDAR
