BEGIN:VCALENDAR
VERSION:2.0
PRODID:SchoolNow
CALSCALE:GREGORIAN
BEGIN:VEVENT
UID:40ca446c-c019-11f0-95e7-0a58a9feac02
DTSTAMP:20260420T154012Z
SUMMARY:Varsity Basketball @ Priory
LOCATION:Woodside Priory School\, 302 Portola Rd\, Portola Valley\, CA 9402
 8\, USA
URL;VALUE=URI:https://www.ndsj.org/student-life/calendar/8792677/varsity-ba
 sketball-priory
DTSTART:20260114T010000Z
DTEND:20260114T023000Z
END:VEVENT
END:VCALENDAR
