BEGIN:VCALENDAR
VERSION:2.0
PRODID:SchoolNow
CALSCALE:GREGORIAN
BEGIN:VEVENT
UID:9ff1a47c-b8ed-11f0-a752-0a58a9feac02
DTSTAMP:20260420T154012Z
SUMMARY:JV Basketball @ Live Oak
LOCATION:Live Oak High School\, 1505 E Main Ave\, Morgan Hill\, CA 95037\, 
 USA
URL;VALUE=URI:https://www.ndsj.org/student-life/calendar/8774101/jv-basketb
 all-live-oak
DTSTART:20260111T000000Z
DTEND:20260111T013000Z
END:VEVENT
END:VCALENDAR
