BEGIN:VCALENDAR
VERSION:2.0
PRODID:SchoolNow
CALSCALE:GREGORIAN
BEGIN:VEVENT
UID:9ff19d10-b8ed-11f0-910f-0a58a9feac02
DTSTAMP:20260420T154012Z
SUMMARY:Varsity Basketball @ Live Oak
LOCATION:Live Oak High School\, 1505 E Main Ave\, Morgan Hill\, CA 95037\, 
 USA
URL;VALUE=URI:https://www.ndsj.org/student-life/calendar/8774096/varsity-ba
 sketball-live-oak
DTSTART:20260111T013000Z
DTEND:20260111T030000Z
END:VEVENT
END:VCALENDAR
