BEGIN:VCALENDAR
VERSION:2.0
PRODID:SchoolNow
CALSCALE:GREGORIAN
BEGIN:VEVENT
UID:9ff19ad6-b8ed-11f0-8142-0a58a9feac02
DTSTAMP:20260420T154012Z
SUMMARY:JV Basketball vs. Menlo
URL;VALUE=URI:https://www.ndsj.org/student-life/calendar/8774095/jv-basketb
 all-vs-menlo
DTSTART:20260128T010000Z
DTEND:20260128T023000Z
END:VEVENT
END:VCALENDAR
