BEGIN:VCALENDAR
VERSION:2.0
PRODID:SchoolNow
CALSCALE:GREGORIAN
BEGIN:VEVENT
UID:9ff1936a-b8ed-11f0-bb1b-0a58a9feac02
DTSTAMP:20260420T093510Z
SUMMARY:JV Basketball vs. Los Gatos
URL;VALUE=URI:https://www.ndsj.org/student-life/calendar/8774093/jv-basketb
 all-vs-los-gatos
DTSTART:20260204T010000Z
DTEND:20260204T023000Z
END:VEVENT
END:VCALENDAR
