BEGIN:VCALENDAR
VERSION:2.0
PRODID:SchoolNow
CALSCALE:GREGORIAN
BEGIN:VEVENT
UID:9fe08d68-b8ed-11f0-b369-0a58a9feac02
DTSTAMP:20260420T093510Z
SUMMARY:Varsity Basketball vs. Los Gatos
LOCATION:Meeting Space-JB Hall- GYM (does not include STAGE or AV support) 
 (700)
URL;VALUE=URI:https://www.ndsj.org/student-life/calendar/8774091/varsity-ba
 sketball-vs-los-gatos
DTSTART:20260204T023000Z
DTEND:20260204T040000Z
END:VEVENT
END:VCALENDAR
