BEGIN:VCALENDAR
VERSION:2.0
PRODID:SchoolNow
CALSCALE:GREGORIAN
BEGIN:VEVENT
UID:9fe08a70-b8ed-11f0-a4c7-0a58a9feac02
DTSTAMP:20260420T154012Z
SUMMARY:Frosh/Soph Basketball @ Burlingame High School
LOCATION:Burlingame High School\, 1 Mangini Way\, Burlingame\, CA 94010\, U
 SA
URL;VALUE=URI:https://www.ndsj.org/student-life/calendar/8774089/frosh-soph
 -basketball-burlingame-high-school
DTSTART:20260115T010000Z
DTEND:20260115T023000Z
END:VEVENT
END:VCALENDAR
